BEGIN:VCALENDAR
VERSION:2.0
PRODID:-//TSF Bensheim e.V. - ECPv6.15.20//NONSGML v1.0//EN
CALSCALE:GREGORIAN
METHOD:PUBLISH
X-ORIGINAL-URL:https://tsf-bensheim.de
X-WR-CALDESC:Veranstaltungen für TSF Bensheim e.V.
REFRESH-INTERVAL;VALUE=DURATION:PT1H
X-Robots-Tag:noindex
X-PUBLISHED-TTL:PT1H
BEGIN:VTIMEZONE
TZID:UTC
BEGIN:STANDARD
TZOFFSETFROM:+0000
TZOFFSETTO:+0000
TZNAME:UTC
DTSTART:20220101T000000
END:STANDARD
END:VTIMEZONE
BEGIN:VEVENT
DTSTART;VALUE=DATE:20230603
DTEND;VALUE=DATE:20230604
DTSTAMP:20260423T211332
CREATED:20230404T123453Z
LAST-MODIFIED:20230404T123453Z
UID:177-1685750400-1685836799@tsf-bensheim.de
SUMMARY:Ausbildung Spezialkurs Nitrox -40 (EAD)
DESCRIPTION:
URL:https://tsf-bensheim.de/event/ausbildung-spezialkurs-nitrox-40-ead/
END:VEVENT
BEGIN:VEVENT
DTSTART;VALUE=DATE:20230617
DTEND;VALUE=DATE:20230618
DTSTAMP:20260423T211332
CREATED:20230404T123508Z
LAST-MODIFIED:20230404T123508Z
UID:179-1686960000-1687046399@tsf-bensheim.de
SUMMARY:Ausbildung Spezialkurs Deep Diving
DESCRIPTION:
URL:https://tsf-bensheim.de/event/ausbildung-spezialkurs-deep-diving/
END:VEVENT
END:VCALENDAR