BEGIN:VCALENDAR
VERSION:2.0
PRODID:-//TSF Bensheim e.V. - ECPv6.15.20//NONSGML v1.0//EN
CALSCALE:GREGORIAN
METHOD:PUBLISH
X-ORIGINAL-URL:https://tsf-bensheim.de
X-WR-CALDESC:Veranstaltungen für TSF Bensheim e.V.
REFRESH-INTERVAL;VALUE=DURATION:PT1H
X-Robots-Tag:noindex
X-PUBLISHED-TTL:PT1H
BEGIN:VTIMEZONE
TZID:UTC
BEGIN:STANDARD
TZOFFSETFROM:+0000
TZOFFSETTO:+0000
TZNAME:UTC
DTSTART:20220101T000000
END:STANDARD
END:VTIMEZONE
BEGIN:VEVENT
DTSTART;VALUE=DATE:20230701
DTEND;VALUE=DATE:20230702
DTSTAMP:20260423T194817
CREATED:20230404T123528Z
LAST-MODIFIED:20230404T123528Z
UID:181-1688169600-1688255999@tsf-bensheim.de
SUMMARY:Ausbildung Spezialkurs Dive Group Leader (Gruppenführung)
DESCRIPTION:
URL:https://tsf-bensheim.de/event/ausbildung-spezialkurs-dive-group-leader-gruppenfuehrung/
END:VEVENT
END:VCALENDAR