BEGIN:VCALENDAR
VERSION:2.0
PRODID:-//TSF Bensheim e.V. - ECPv6.15.20//NONSGML v1.0//EN
CALSCALE:GREGORIAN
METHOD:PUBLISH
X-WR-CALNAME:TSF Bensheim e.V.
X-ORIGINAL-URL:https://tsf-bensheim.de
X-WR-CALDESC:Veranstaltungen für TSF Bensheim e.V.
REFRESH-INTERVAL;VALUE=DURATION:PT1H
X-Robots-Tag:noindex
X-PUBLISHED-TTL:PT1H
BEGIN:VTIMEZONE
TZID:Europe/Berlin
BEGIN:DAYLIGHT
TZOFFSETFROM:+0100
TZOFFSETTO:+0200
TZNAME:CEST
DTSTART:20230326T010000
END:DAYLIGHT
BEGIN:STANDARD
TZOFFSETFROM:+0200
TZOFFSETTO:+0100
TZNAME:CET
DTSTART:20231029T010000
END:STANDARD
BEGIN:DAYLIGHT
TZOFFSETFROM:+0100
TZOFFSETTO:+0200
TZNAME:CEST
DTSTART:20240331T010000
END:DAYLIGHT
BEGIN:STANDARD
TZOFFSETFROM:+0200
TZOFFSETTO:+0100
TZNAME:CET
DTSTART:20241027T010000
END:STANDARD
BEGIN:DAYLIGHT
TZOFFSETFROM:+0100
TZOFFSETTO:+0200
TZNAME:CEST
DTSTART:20250330T010000
END:DAYLIGHT
BEGIN:STANDARD
TZOFFSETFROM:+0200
TZOFFSETTO:+0100
TZNAME:CET
DTSTART:20251026T010000
END:STANDARD
END:VTIMEZONE
BEGIN:VEVENT
DTSTART;VALUE=DATE:20240824
DTEND;VALUE=DATE:20240826
DTSTAMP:20260422T204033
CREATED:20240709T191633Z
LAST-MODIFIED:20240709T192030Z
UID:614-1724457600-1724630399@tsf-bensheim.de
SUMMARY:Ausbildung Specialty UW Navigation
DESCRIPTION:
URL:https://tsf-bensheim.de/event/specialty-uw-navigation/
END:VEVENT
BEGIN:VEVENT
DTSTART;TZID=Europe/Berlin:20240831T183000
DTEND;TZID=Europe/Berlin:20240831T183000
DTSTAMP:20260422T204033
CREATED:20240530T084525Z
LAST-MODIFIED:20240530T084525Z
UID:579-1725129000-1725129000@tsf-bensheim.de
SUMMARY:Sommerfest
DESCRIPTION:
URL:https://tsf-bensheim.de/event/tsf-sommerfest-2024/
END:VEVENT
END:VCALENDAR