BEGIN:VCALENDAR
VERSION:2.0
PRODID:-//TSF Bensheim e.V. - ECPv6.15.20//NONSGML v1.0//EN
CALSCALE:GREGORIAN
METHOD:PUBLISH
X-WR-CALNAME:TSF Bensheim e.V.
X-ORIGINAL-URL:https://tsf-bensheim.de
X-WR-CALDESC:Veranstaltungen für TSF Bensheim e.V.
REFRESH-INTERVAL;VALUE=DURATION:PT1H
X-Robots-Tag:noindex
X-PUBLISHED-TTL:PT1H
BEGIN:VTIMEZONE
TZID:Europe/Berlin
BEGIN:DAYLIGHT
TZOFFSETFROM:+0100
TZOFFSETTO:+0200
TZNAME:CEST
DTSTART:20230326T010000
END:DAYLIGHT
BEGIN:STANDARD
TZOFFSETFROM:+0200
TZOFFSETTO:+0100
TZNAME:CET
DTSTART:20231029T010000
END:STANDARD
BEGIN:DAYLIGHT
TZOFFSETFROM:+0100
TZOFFSETTO:+0200
TZNAME:CEST
DTSTART:20240331T010000
END:DAYLIGHT
BEGIN:STANDARD
TZOFFSETFROM:+0200
TZOFFSETTO:+0100
TZNAME:CET
DTSTART:20241027T010000
END:STANDARD
BEGIN:DAYLIGHT
TZOFFSETFROM:+0100
TZOFFSETTO:+0200
TZNAME:CEST
DTSTART:20250330T010000
END:DAYLIGHT
BEGIN:STANDARD
TZOFFSETFROM:+0200
TZOFFSETTO:+0100
TZNAME:CET
DTSTART:20251026T010000
END:STANDARD
END:VTIMEZONE
BEGIN:VEVENT
DTSTART;TZID=Europe/Berlin:20241005T133000
DTEND;TZID=Europe/Berlin:20241005T133000
DTSTAMP:20260422T164431
CREATED:20240530T085040Z
LAST-MODIFIED:20240530T085040Z
UID:582-1728135000-1728135000@tsf-bensheim.de
SUMMARY:Abtauchen 2024
DESCRIPTION:
URL:https://tsf-bensheim.de/event/tsf-abtauchen-2024/
END:VEVENT
BEGIN:VEVENT
DTSTART;TZID=Europe/Berlin:20241019T190000
DTEND;TZID=Europe/Berlin:20241019T220000
DTSTAMP:20260422T164431
CREATED:20240515T180823Z
LAST-MODIFIED:20240530T090553Z
UID:536-1729364400-1729375200@tsf-bensheim.de
SUMMARY:Meeresbiologisches Seminar 2024
DESCRIPTION:Meeresbiologisches Seminar 2024 \nWas gut ist\, kommt wieder! Und das nun seit 16 Jahren!  Deswegen veranstalten die Tauchsportfreunde Bensheim und das nun schon seit 2008\, wieder ein Meeresbiologisches Seminar mit der bekannten Meeresbiologin Dr. Constanze Conrad im Landgasthof „Zur Post“ in 64673 Zwingenberg-Rodau.
URL:https://tsf-bensheim.de/event/meeresbiologisches-seminar-2024/
LOCATION:Landgasthof Zur Post\, Hauptstraße 14\, Zwingenberg-Rodau\, Hessen\, 64673
END:VEVENT
END:VCALENDAR