BEGIN:VCALENDAR
VERSION:2.0
PRODID:-//TSF Bensheim e.V. - ECPv6.15.20//NONSGML v1.0//EN
CALSCALE:GREGORIAN
METHOD:PUBLISH
X-WR-CALNAME:TSF Bensheim e.V.
X-ORIGINAL-URL:https://tsf-bensheim.de
X-WR-CALDESC:Veranstaltungen für TSF Bensheim e.V.
REFRESH-INTERVAL;VALUE=DURATION:PT1H
X-Robots-Tag:noindex
X-PUBLISHED-TTL:PT1H
BEGIN:VTIMEZONE
TZID:Europe/Berlin
BEGIN:DAYLIGHT
TZOFFSETFROM:+0100
TZOFFSETTO:+0200
TZNAME:CEST
DTSTART:20240331T010000
END:DAYLIGHT
BEGIN:STANDARD
TZOFFSETFROM:+0200
TZOFFSETTO:+0100
TZNAME:CET
DTSTART:20241027T010000
END:STANDARD
BEGIN:DAYLIGHT
TZOFFSETFROM:+0100
TZOFFSETTO:+0200
TZNAME:CEST
DTSTART:20250330T010000
END:DAYLIGHT
BEGIN:STANDARD
TZOFFSETFROM:+0200
TZOFFSETTO:+0100
TZNAME:CET
DTSTART:20251026T010000
END:STANDARD
BEGIN:DAYLIGHT
TZOFFSETFROM:+0100
TZOFFSETTO:+0200
TZNAME:CEST
DTSTART:20260329T010000
END:DAYLIGHT
BEGIN:STANDARD
TZOFFSETFROM:+0200
TZOFFSETTO:+0100
TZNAME:CET
DTSTART:20261025T010000
END:STANDARD
END:VTIMEZONE
BEGIN:VEVENT
DTSTART;TZID=Europe/Berlin:20250911T180000
DTEND;TZID=Europe/Berlin:20250911T210000
DTSTAMP:20260421T215923
CREATED:20250826T200031Z
LAST-MODIFIED:20250826T200031Z
UID:814-1757613600-1757624400@tsf-bensheim.de
SUMMARY:DIWA Spezialausbildung Wracktauchen
DESCRIPTION:Die Theorie UE finden am Donnerstag\, dem 11. September 2025 in Bensheim statt. Der Praxisteil findet in Kroatien\, Insel Krk ab dem 05. Oktober 2025 statt.
URL:https://tsf-bensheim.de/event/diwa-spezialausbildung-wracktauchen/
ORGANIZER;CN="Tauchsportfreunde Bensheim 1988 e.V.":MAILTO:info@tsf-bensheim.de
END:VEVENT
BEGIN:VEVENT
DTSTART;VALUE=DATE:20250918
DTEND;VALUE=DATE:20250922
DTSTAMP:20260421T215923
CREATED:20250116T194947Z
LAST-MODIFIED:20250826T194837Z
UID:677-1758153600-1758499199@tsf-bensheim.de
SUMMARY:DIWA Spezialkurs UW Navigation 2025
DESCRIPTION:18.09.2025 – Theorie\n19.09.2025 – Praxis\n21.09.2025 – Praxis
URL:https://tsf-bensheim.de/event/spezialkurs-night-diving/
ORGANIZER;CN="Tauchsportfreunde Bensheim 1988 e.V.":MAILTO:info@tsf-bensheim.de
END:VEVENT
BEGIN:VEVENT
DTSTART;TZID=Europe/Berlin:20250927T130000
DTEND;TZID=Europe/Berlin:20250927T130000
DTSTAMP:20260421T215923
CREATED:20250206T205113Z
LAST-MODIFIED:20250818T220813Z
UID:707-1758978000-1758978000@tsf-bensheim.de
SUMMARY:Abtauchen 2025
DESCRIPTION:Das diesjähriges Abtauchen mit anschließenden gemütlichem Beisammensein & Abgrillen (Weck und Worscht) findet am Samstag\, dem 27. September 2025 statt.\nTreff ist um 13.00 h Tauchbasis Badesee.
URL:https://tsf-bensheim.de/event/abtauchen-2025/
ORGANIZER;CN="Tauchsportfreunde Bensheim 1988 e.V.":MAILTO:info@tsf-bensheim.de
END:VEVENT
END:VCALENDAR