BEGIN:VCALENDAR
VERSION:2.0
PRODID:-//TSF Bensheim e.V. - ECPv6.15.20//NONSGML v1.0//EN
CALSCALE:GREGORIAN
METHOD:PUBLISH
X-WR-CALNAME:TSF Bensheim e.V.
X-ORIGINAL-URL:https://tsf-bensheim.de
X-WR-CALDESC:Veranstaltungen für TSF Bensheim e.V.
REFRESH-INTERVAL;VALUE=DURATION:PT1H
X-Robots-Tag:noindex
X-PUBLISHED-TTL:PT1H
BEGIN:VTIMEZONE
TZID:Europe/Berlin
BEGIN:DAYLIGHT
TZOFFSETFROM:+0100
TZOFFSETTO:+0200
TZNAME:CEST
DTSTART:20240331T010000
END:DAYLIGHT
BEGIN:STANDARD
TZOFFSETFROM:+0200
TZOFFSETTO:+0100
TZNAME:CET
DTSTART:20241027T010000
END:STANDARD
BEGIN:DAYLIGHT
TZOFFSETFROM:+0100
TZOFFSETTO:+0200
TZNAME:CEST
DTSTART:20250330T010000
END:DAYLIGHT
BEGIN:STANDARD
TZOFFSETFROM:+0200
TZOFFSETTO:+0100
TZNAME:CET
DTSTART:20251026T010000
END:STANDARD
BEGIN:DAYLIGHT
TZOFFSETFROM:+0100
TZOFFSETTO:+0200
TZNAME:CEST
DTSTART:20260329T010000
END:DAYLIGHT
BEGIN:STANDARD
TZOFFSETFROM:+0200
TZOFFSETTO:+0100
TZNAME:CET
DTSTART:20261025T010000
END:STANDARD
END:VTIMEZONE
BEGIN:VEVENT
DTSTART;TZID=Europe/Berlin:20251106T190000
DTEND;TZID=Europe/Berlin:20251106T190000
DTSTAMP:20260421T181552
CREATED:20250321T174023Z
LAST-MODIFIED:20250321T175544Z
UID:754-1762455600-1762455600@tsf-bensheim.de
SUMMARY:Mitgliederversammlung
DESCRIPTION:Am Donnerstag\, dem 06. November 2025 findet um 19.00 Uhr im Landgasthof „Zur Post“ in Zwingenberg-Rodau eine Mitgliederversammlung statt. Beginn ist um 19.00 Uhr.
URL:https://tsf-bensheim.de/event/mitgliederversammlung/
LOCATION:Landgasthof Zur Post\, Hauptstraße 14\, Zwingenberg-Rodau\, Hessen\, 64673
ORGANIZER;CN="Tauchsportfreunde Bensheim 1988 e.V.":MAILTO:info@tsf-bensheim.de
END:VEVENT
BEGIN:VEVENT
DTSTART;TZID=Europe/Berlin:20251122T190000
DTEND;TZID=Europe/Berlin:20251122T190000
DTSTAMP:20260421T181552
CREATED:20250206T205646Z
LAST-MODIFIED:20250206T205954Z
UID:710-1763838000-1763838000@tsf-bensheim.de
SUMMARY:Jahresabschlussfeier 2025
DESCRIPTION:Unsere diesjährige Jahresabschlussfeier findet am 22. November 2025 im Landgasthof „Zur Post“ in Zwingenberg-Rodau statt.
URL:https://tsf-bensheim.de/event/jahresabschlussfeier-2025/
END:VEVENT
END:VCALENDAR