BEGIN:VCALENDAR
VERSION:2.0
PRODID:-//TSF Bensheim e.V. - ECPv6.15.20//NONSGML v1.0//EN
CALSCALE:GREGORIAN
METHOD:PUBLISH
X-ORIGINAL-URL:https://tsf-bensheim.de
X-WR-CALDESC:Veranstaltungen für TSF Bensheim e.V.
REFRESH-INTERVAL;VALUE=DURATION:PT1H
X-Robots-Tag:noindex
X-PUBLISHED-TTL:PT1H
BEGIN:VTIMEZONE
TZID:Europe/Berlin
BEGIN:DAYLIGHT
TZOFFSETFROM:+0100
TZOFFSETTO:+0200
TZNAME:CEST
DTSTART:20240331T010000
END:DAYLIGHT
BEGIN:STANDARD
TZOFFSETFROM:+0200
TZOFFSETTO:+0100
TZNAME:CET
DTSTART:20241027T010000
END:STANDARD
BEGIN:DAYLIGHT
TZOFFSETFROM:+0100
TZOFFSETTO:+0200
TZNAME:CEST
DTSTART:20250330T010000
END:DAYLIGHT
BEGIN:STANDARD
TZOFFSETFROM:+0200
TZOFFSETTO:+0100
TZNAME:CET
DTSTART:20251026T010000
END:STANDARD
BEGIN:DAYLIGHT
TZOFFSETFROM:+0100
TZOFFSETTO:+0200
TZNAME:CEST
DTSTART:20260329T010000
END:DAYLIGHT
BEGIN:STANDARD
TZOFFSETFROM:+0200
TZOFFSETTO:+0100
TZNAME:CET
DTSTART:20261025T010000
END:STANDARD
END:VTIMEZONE
BEGIN:VEVENT
DTSTART;TZID=Europe/Berlin:20251231T100000
DTEND;TZID=Europe/Berlin:20251231T100000
DTSTAMP:20260421T161606
CREATED:20250117T174750Z
LAST-MODIFIED:20251224T162540Z
UID:682-1767175200-1767175200@tsf-bensheim.de
SUMMARY:Silvestertauchen 2025
DESCRIPTION:Zu dem diesjährigen Silvestertauchen 2025 wird unsere TSF Jugend in unsere Tauchbasis am Badesee Bensheim Waffeln backen\, sowie Punsch und Glühwein an die Mitglieder anbieten. Während die mutigen Taucher ins Wasser gehen\, bzw. abtauchen\, wird die TSF Jugend leckere Waffeln backen. Es gibt verschiedene Waffelteige\, die von den Anwesenden Mitgliedern verkostet und bewertet werden. \nDer beste Waffelteig wird ausgewählt und soll im kommenden Jahr unser offizielles Rezept sein\, wenn wir zum ersten Mal mit einem eigenen Stand am Nikolausmarkt in Heppenheim teilnehmen werden 😎 Wir freuen uns auf zahlreiche Teilnehmer und einen gemütlichen Jahresabschluss am Badesee in Bensheim. Treff ist um 10.00 Uhr Tauchbasis am See. \n 
URL:https://tsf-bensheim.de/event/silvestertauchen-2025/
ORGANIZER;CN="Tauchsportfreunde Bensheim 1988 e.V.":MAILTO:info@tsf-bensheim.de
END:VEVENT
END:VCALENDAR