BEGIN:VCALENDAR
VERSION:2.0
PRODID:-//TSF Bensheim e.V. - ECPv6.15.20//NONSGML v1.0//EN
CALSCALE:GREGORIAN
METHOD:PUBLISH
X-WR-CALNAME:TSF Bensheim e.V.
X-ORIGINAL-URL:https://tsf-bensheim.de
X-WR-CALDESC:Veranstaltungen für TSF Bensheim e.V.
REFRESH-INTERVAL;VALUE=DURATION:PT1H
X-Robots-Tag:noindex
X-PUBLISHED-TTL:PT1H
BEGIN:VTIMEZONE
TZID:Europe/Berlin
BEGIN:DAYLIGHT
TZOFFSETFROM:+0100
TZOFFSETTO:+0200
TZNAME:CEST
DTSTART:20250330T010000
END:DAYLIGHT
BEGIN:STANDARD
TZOFFSETFROM:+0200
TZOFFSETTO:+0100
TZNAME:CET
DTSTART:20251026T010000
END:STANDARD
BEGIN:DAYLIGHT
TZOFFSETFROM:+0100
TZOFFSETTO:+0200
TZNAME:CEST
DTSTART:20260329T010000
END:DAYLIGHT
BEGIN:STANDARD
TZOFFSETFROM:+0200
TZOFFSETTO:+0100
TZNAME:CET
DTSTART:20261025T010000
END:STANDARD
BEGIN:DAYLIGHT
TZOFFSETFROM:+0100
TZOFFSETTO:+0200
TZNAME:CEST
DTSTART:20270328T010000
END:DAYLIGHT
BEGIN:STANDARD
TZOFFSETFROM:+0200
TZOFFSETTO:+0100
TZNAME:CET
DTSTART:20271031T010000
END:STANDARD
END:VTIMEZONE
BEGIN:VEVENT
DTSTART;VALUE=DATE:20260608
DTEND;VALUE=DATE:20260830
DTSTAMP:20260421T143243
CREATED:20260214T180141Z
LAST-MODIFIED:20260214T180929Z
UID:987-1780876800-1788047999@tsf-bensheim.de
SUMMARY:Dive Hub Rhein-Neckar-Zentrum (RNZ) Viernheim 2026 taucher.net
DESCRIPTION:Diesen Sommer wird das Rhein-Neckar-Zentrum zum Dive Hub von taucher.net: \nVon 08. Juni 2026 bis 29. August 2026 steht dort ein großer Tauchcontainer im Center – 12 Wochen lang Action\, Shows und Experimente rund ums Wasser. Geplant sind Schnuppertauchen für Einsteiger\, spektakuläre Mermaid-Shows\, Unterwasser-Modelshootings\, Helmtauchen\, Synchronschwimmen\, Freitauch-Sessions und Einsätze von Marine\, DLRG und Feuerwehr\, die ihre Tauchtechnik live zeigen. \nDer Container ist in dieser Zeit bewusst „open stage“: Auch Vereine und Tauchschulen aus der Region können eigene Schnuppertauch-Angebote\, Workshops oder Special-Events im Becken umsetzen. Ihr habt eine verrückte oder besondere Idee für einen Tag im Tauchcontainer? Meldet euch gern bei uns\, wir freuen uns auf kreative Konzepte und viele Luftblasen im RNZ. (Quelle: taucher.net) \nSobald unsere Termine für das Schnuppertauchen fest stehen\, werden diese selbstverständlich auch hier veröffentlicht. Wir freuen uns jetzt schon riesig auf dieses 12 wöchige Taucher Event im Rhein-Neckar-Zentrum in Viernheim. \n 
URL:https://tsf-bensheim.de/event/dive-hub-rhein-neckar-zentrum-rnz-viernheim-2026-taucher-net/
LOCATION:Rhei-Neckar-Zentrum\, Robert-Schuman-Str. 8a\, Viernheim\, Hessen\, 68519\, Germany
ORGANIZER;CN="taucher.net":MAILTO:redaktion@taucher.net
END:VEVENT
BEGIN:VEVENT
DTSTART;TZID=Europe/Berlin:20260815T180000
DTEND;TZID=Europe/Berlin:20260815T180000
DTSTAMP:20260421T143243
CREATED:20260226T211558Z
LAST-MODIFIED:20260226T212000Z
UID:999-1786816800-1786816800@tsf-bensheim.de
SUMMARY:Sommerfest 2026
DESCRIPTION:Am Samstag\, dem 15. August 2026 finder unser diesjähriges Sommerfest statt. Beginn ist um 18.00 Uhr. \n 
URL:https://tsf-bensheim.de/event/sommerfest-2026/
ORGANIZER;CN="Tauchsportfreunde Bensheim 1988 e.V.":MAILTO:info@tsf-bensheim.de
END:VEVENT
BEGIN:VEVENT
DTSTART;VALUE=DATE:20260822
DTEND;VALUE=DATE:20260824
DTSTAMP:20260421T143243
CREATED:20260302T185720Z
LAST-MODIFIED:20260302T185757Z
UID:1026-1787356800-1787529599@tsf-bensheim.de
SUMMARY:DIWA Spezialkurs Dive Group Leader
DESCRIPTION:Spezialkurs Dive Group Leader \nTermin: 22.08.2026 (Theorie) + 23.08.2026 (Tauchgänge)\n(Theorie + Praxis) \nKontakt:\nUwe.Fleischmann@tsf-bensheim.de\nMobile: 0160.5510959 \n 
URL:https://tsf-bensheim.de/event/diwa-spezialkurs-dive-group-leader/
ORGANIZER;CN="Tauchsportfreunde Bensheim 1988 e.V.":MAILTO:info@tsf-bensheim.de
END:VEVENT
END:VCALENDAR