BEGIN:VCALENDAR
VERSION:2.0
PRODID:-//TSF Bensheim e.V. - ECPv6.15.20//NONSGML v1.0//EN
CALSCALE:GREGORIAN
METHOD:PUBLISH
X-ORIGINAL-URL:https://tsf-bensheim.de
X-WR-CALDESC:Veranstaltungen für TSF Bensheim e.V.
REFRESH-INTERVAL;VALUE=DURATION:PT1H
X-Robots-Tag:noindex
X-PUBLISHED-TTL:PT1H
BEGIN:VTIMEZONE
TZID:Europe/Berlin
BEGIN:DAYLIGHT
TZOFFSETFROM:+0100
TZOFFSETTO:+0200
TZNAME:CEST
DTSTART:20250330T010000
END:DAYLIGHT
BEGIN:STANDARD
TZOFFSETFROM:+0200
TZOFFSETTO:+0100
TZNAME:CET
DTSTART:20251026T010000
END:STANDARD
BEGIN:DAYLIGHT
TZOFFSETFROM:+0100
TZOFFSETTO:+0200
TZNAME:CEST
DTSTART:20260329T010000
END:DAYLIGHT
BEGIN:STANDARD
TZOFFSETFROM:+0200
TZOFFSETTO:+0100
TZNAME:CET
DTSTART:20261025T010000
END:STANDARD
BEGIN:DAYLIGHT
TZOFFSETFROM:+0100
TZOFFSETTO:+0200
TZNAME:CEST
DTSTART:20270328T010000
END:DAYLIGHT
BEGIN:STANDARD
TZOFFSETFROM:+0200
TZOFFSETTO:+0100
TZNAME:CET
DTSTART:20271031T010000
END:STANDARD
END:VTIMEZONE
BEGIN:VEVENT
DTSTART;TZID=Europe/Berlin:20260917T190000
DTEND;TZID=Europe/Berlin:20260917T210000
DTSTAMP:20260421T161856
CREATED:20251218T160134Z
LAST-MODIFIED:20251218T160450Z
UID:932-1789671600-1789678800@tsf-bensheim.de
SUMMARY:DIWA Spezialkurs Nachttauchen 2026
DESCRIPTION:Termine:\n17.09.2026 Theorie + Praxis Tauchgänge\n18.09.2026 Praxis Tauchgänge \nKontakt:\nUwe Fleischmann\nMobil: 0160.5510959\nEMail: uwe.fleischmann@tsf-bensheim.de
URL:https://tsf-bensheim.de/event/diwa-spezialkurs-nachttauchen-2026/
END:VEVENT
BEGIN:VEVENT
DTSTART;VALUE=DATE:20260924
DTEND;VALUE=DATE:20260928
DTSTAMP:20260421T161856
CREATED:20250929T173122Z
LAST-MODIFIED:20250929T173122Z
UID:849-1790208000-1790553599@tsf-bensheim.de
SUMMARY:Messe InterDive 2026
DESCRIPTION:Die Messe InterDive in Friedrichshafen am Bodensee findet vom 24.09. bis 27.09.2026 statt.
URL:https://tsf-bensheim.de/event/messe-interdive-2026/
LOCATION:Messe InterDive\, Neue Messe 1\, Friedrichshafen\, Baden-Würtenberg\, 88010\, Germany
END:VEVENT
BEGIN:VEVENT
DTSTART;TZID=Europe/Berlin:20260926T130000
DTEND;TZID=Europe/Berlin:20260926T130000
DTSTAMP:20260421T161856
CREATED:20260226T213742Z
LAST-MODIFIED:20260226T214009Z
UID:1015-1790427600-1790427600@tsf-bensheim.de
SUMMARY:Abtauchen 2026
DESCRIPTION:Unser diesjähriges Abtauchen mit anschl. gemütlichen Beisammensein mit Weck und Worscht\, findet am Samstag\, dem 26. September 2026 statt.  Treff für alle Veriensmitglieder ist um 13.00 Uhr an der Tauchbasis.
URL:https://tsf-bensheim.de/event/abtauchen-2026/
ORGANIZER;CN="Tauchsportfreunde Bensheim 1988 e.V.":MAILTO:info@tsf-bensheim.de
END:VEVENT
END:VCALENDAR