BEGIN:VCALENDAR
VERSION:2.0
PRODID:-//TSF Bensheim e.V. - ECPv6.15.20//NONSGML v1.0//EN
CALSCALE:GREGORIAN
METHOD:PUBLISH
X-ORIGINAL-URL:https://tsf-bensheim.de
X-WR-CALDESC:Veranstaltungen für TSF Bensheim e.V.
REFRESH-INTERVAL;VALUE=DURATION:PT1H
X-Robots-Tag:noindex
X-PUBLISHED-TTL:PT1H
BEGIN:VTIMEZONE
TZID:Europe/Berlin
BEGIN:DAYLIGHT
TZOFFSETFROM:+0100
TZOFFSETTO:+0200
TZNAME:CEST
DTSTART:20250330T010000
END:DAYLIGHT
BEGIN:STANDARD
TZOFFSETFROM:+0200
TZOFFSETTO:+0100
TZNAME:CET
DTSTART:20251026T010000
END:STANDARD
BEGIN:DAYLIGHT
TZOFFSETFROM:+0100
TZOFFSETTO:+0200
TZNAME:CEST
DTSTART:20260329T010000
END:DAYLIGHT
BEGIN:STANDARD
TZOFFSETFROM:+0200
TZOFFSETTO:+0100
TZNAME:CET
DTSTART:20261025T010000
END:STANDARD
BEGIN:DAYLIGHT
TZOFFSETFROM:+0100
TZOFFSETTO:+0200
TZNAME:CEST
DTSTART:20270328T010000
END:DAYLIGHT
BEGIN:STANDARD
TZOFFSETFROM:+0200
TZOFFSETTO:+0100
TZNAME:CET
DTSTART:20271031T010000
END:STANDARD
END:VTIMEZONE
BEGIN:VEVENT
DTSTART;VALUE=DATE:20261205
DTEND;VALUE=DATE:20261207
DTSTAMP:20260421T214948
CREATED:20260102T131747Z
LAST-MODIFIED:20260102T132441Z
UID:973-1796428800-1796601599@tsf-bensheim.de
SUMMARY:Nikolausmarkt Heppenheim - Teilnahme TSF Jugend
DESCRIPTION:Der Traditionelle Nikolausmarkt in Heppenheim findet alljährlich am ersten Wochenende im Dezember statt. Das Festgebiet in der historischen Altstadt umfasst den Marktplatz\, den Kirchplatz\, den Amtshof und den Winzerhof. \nIn jedem Jahr hält sich der Nikolaus diese Tage für die Heppenheimer Kinder frei und ist auf dem Markt unterwegs ist. Die Stände auf dem Nikolausmarkt werden nur von Vereinen und regionalen Direktvermarktern betrieben – deshalb hat er ein ganz besonderes Flair. \nIn diesem Jahr nimmt erstmalig unsere TSF Jugned mit einem Stand an dem Nikolausmarkt teil.
URL:https://tsf-bensheim.de/event/nikolausmarkt-heppenheim-teilnahme-tsf-jugend/
LOCATION:Heppenheim\, Marktplatz\, Heppenheim\, Hessen\, 64646\, Germany
ORGANIZER;CN="Stadt Heppenheim":MAILTO:stadtmarketing@stadt.heppenheim.de
END:VEVENT
BEGIN:VEVENT
DTSTART;TZID=Europe/Berlin:20261231T100000
DTEND;TZID=Europe/Berlin:20261231T100000
DTSTAMP:20260421T214948
CREATED:20251218T161639Z
LAST-MODIFIED:20251218T161639Z
UID:937-1798711200-1798711200@tsf-bensheim.de
SUMMARY:Silvestertauchen 2026
DESCRIPTION:Zum Jahresabschluss treffen wir uns in diesem Jahr am Donnerstag\, dem 31.12.2026 um 10.00 Uhr an der Tauchbasis zu unserem Silvestertauchen. Nicht alle die erscheinen\, gehen auch ins Wasser\, aber das ist gar nicht so wichtig. Gemeinsam verabschieden wir das Jahr bei einem guten Winzerglühwein & Punsch. Selbstverstänbdlich auch alkoholfrei. \n\nUnsere TSF Jugend backt wieder Waffeln 🙂 \n\n\n 
URL:https://tsf-bensheim.de/event/silvestertauchen-2026/
END:VEVENT
END:VCALENDAR